Package: combi Version: 1.19.0 Command: /Library/Frameworks/R.framework/Resources/bin/R CMD build --keep-empty-dirs --no-resave-data combi StartedAt: 2025-02-09 15:57:21 -0500 (Sun, 09 Feb 2025) EndedAt: 2025-02-09 15:58:45 -0500 (Sun, 09 Feb 2025) EllapsedTime: 83.9 seconds RetCode: 0 Status: OK PackageFile: combi_1.19.0.tar.gz PackageFileSize: 1.503 MiB