Package: combi Version: 1.19.0 Command: /Library/Frameworks/R.framework/Resources/bin/R CMD check --install=check:combi.install-out.txt --library=/Library/Frameworks/R.framework/Resources/library --no-vignettes --timings combi_1.19.0.tar.gz StartedAt: 2025-02-09 18:37:47 -0500 (Sun, 09 Feb 2025) EndedAt: 2025-02-09 18:40:18 -0500 (Sun, 09 Feb 2025) EllapsedTime: 150.8 seconds RetCode: 0 Status: OK CheckDir: combi.Rcheck Warnings: 0