Package: combi Version: 1.19.0 Command: /Library/Frameworks/R.framework/Resources/bin/R CMD INSTALL combi StartedAt: 2025-02-09 15:22:34 -0500 (Sun, 09 Feb 2025) EndedAt: 2025-02-09 15:22:46 -0500 (Sun, 09 Feb 2025) EllapsedTime: 12.2 seconds RetCode: 0 Status: OK