Package: combi Version: 1.19.0 Command: /Library/Frameworks/R.framework/Resources/bin/R CMD build --keep-empty-dirs --no-resave-data combi StartedAt: 2025-02-04 16:18:03 -0500 (Tue, 04 Feb 2025) EndedAt: 2025-02-04 16:20:11 -0500 (Tue, 04 Feb 2025) EllapsedTime: 128.0 seconds RetCode: 0 Status: OK PackageFile: combi_1.19.0.tar.gz PackageFileSize: 1.496 MiB