Package: combi Version: 1.19.0 Command: /Library/Frameworks/R.framework/Resources/bin/R CMD INSTALL combi StartedAt: 2025-02-04 15:35:43 -0500 (Tue, 04 Feb 2025) EndedAt: 2025-02-04 15:36:24 -0500 (Tue, 04 Feb 2025) EllapsedTime: 40.8 seconds RetCode: 0 Status: OK