Package: combi Version: 1.19.0 Command: rm -rf combi.buildbin-libdir && mkdir combi.buildbin-libdir && E:\biocbuild\bbs-3.21-bioc\R\bin\R.exe CMD INSTALL --build --library=combi.buildbin-libdir combi_1.19.0.tar.gz StartedAt: 2025-02-10 07:30:23 -0500 (Mon, 10 Feb 2025) EndedAt: 2025-02-10 07:31:22 -0500 (Mon, 10 Feb 2025) EllapsedTime: 58.9 seconds RetCode: 0 Status: OK PackageFile: combi_1.19.0.zip PackageFileSize: 1.389 MiB