Package: compEpiTools Version: 1.41.0 Command: /Library/Frameworks/R.framework/Resources/bin/R CMD build --keep-empty-dirs --no-resave-data compEpiTools StartedAt: 2025-02-12 15:58:17 -0500 (Wed, 12 Feb 2025) EndedAt: 2025-02-12 15:58:52 -0500 (Wed, 12 Feb 2025) EllapsedTime: 35.4 seconds RetCode: 0 Status: OK PackageFile: compEpiTools_1.41.0.tar.gz PackageFileSize: 2.166 MiB