Package: compEpiTools Version: 1.41.0 Command: chmod a+r compEpiTools -R && E:\biocbuild\bbs-3.21-bioc\R\bin\R.exe CMD build --keep-empty-dirs --no-resave-data compEpiTools StartedAt: 2025-02-09 18:00:18 -0500 (Sun, 09 Feb 2025) EndedAt: 2025-02-09 18:02:51 -0500 (Sun, 09 Feb 2025) EllapsedTime: 153.2 seconds RetCode: 0 Status: OK PackageFile: compEpiTools_1.41.0.tar.gz PackageFileSize: 2.165 MiB