Package: compEpiTools Version: 1.41.0 Command: E:\biocbuild\bbs-3.21-bioc\R\bin\R.exe CMD check --no-multiarch --install=check:compEpiTools.install-out.txt --library=E:\biocbuild\bbs-3.21-bioc\R\library --no-vignettes --timings compEpiTools_1.41.0.tar.gz StartedAt: 2025-02-09 23:52:55 -0500 (Sun, 09 Feb 2025) EndedAt: 2025-02-10 00:01:28 -0500 (Mon, 10 Feb 2025) EllapsedTime: 512.7 seconds RetCode: 0 Status: OK CheckDir: compEpiTools.Rcheck Warnings: 0