Package: compEpiTools Version: 1.41.0 Command: E:\biocbuild\bbs-3.21-bioc\R\bin\R.exe CMD INSTALL compEpiTools StartedAt: 2025-02-12 16:39:00 -0500 (Wed, 12 Feb 2025) EndedAt: 2025-02-12 16:40:18 -0500 (Wed, 12 Feb 2025) EllapsedTime: 78.1 seconds RetCode: 0 Status: OK