Package: compSPOT Version: 1.5.0 Command: rm -rf compSPOT.buildbin-libdir && mkdir compSPOT.buildbin-libdir && /Users/biocbuild/BBS/utils/build-universal.sh compSPOT_1.5.0.tar.gz /Library/Frameworks/R.framework/Resources/bin/R compSPOT.buildbin-libdir StartedAt: 2025-02-09 22:10:17 -0500 (Sun, 09 Feb 2025) EndedAt: 2025-02-09 22:10:20 -0500 (Sun, 09 Feb 2025) EllapsedTime: 3.1 seconds RetCode: 0 Status: OK PackageFile: compSPOT_1.5.0.tgz PackageFileSize: 466.4 KiB