Package: compSPOT Version: 1.5.0 Command: /home/biocbuild/R/R/bin/R CMD build --keep-empty-dirs --no-resave-data compSPOT StartedAt: 2025-01-28 22:04:50 -0000 (Tue, 28 Jan 2025) EndedAt: 2025-01-28 22:05:21 -0000 (Tue, 28 Jan 2025) EllapsedTime: 31.0 seconds RetCode: 0 Status: OK PackageFile: compSPOT_1.5.0.tar.gz PackageFileSize: 462.5 KiB