Package: compSPOT Version: 1.5.0 Command: rm -rf compSPOT.buildbin-libdir && mkdir compSPOT.buildbin-libdir && /Users/biocbuild/BBS/utils/build-universal.sh compSPOT_1.5.0.tar.gz /Library/Frameworks/R.framework/Resources/bin/R compSPOT.buildbin-libdir StartedAt: 2025-02-10 00:47:52 -0500 (Mon, 10 Feb 2025) EndedAt: 2025-02-10 00:48:03 -0500 (Mon, 10 Feb 2025) EllapsedTime: 10.3 seconds RetCode: 0 Status: OK PackageFile: compSPOT_1.5.0.tgz PackageFileSize: 465.9 KiB