Package: compSPOT Version: 1.5.0 Command: /Library/Frameworks/R.framework/Resources/bin/R CMD check --install=check:compSPOT.install-out.txt --library=/Library/Frameworks/R.framework/Resources/library --no-vignettes --timings compSPOT_1.5.0.tar.gz StartedAt: 2025-02-09 19:54:27 -0500 (Sun, 09 Feb 2025) EndedAt: 2025-02-09 19:57:42 -0500 (Sun, 09 Feb 2025) EllapsedTime: 194.8 seconds RetCode: 0 Status: OK CheckDir: compSPOT.Rcheck Warnings: 0