Package: compSPOT Version: 1.5.0 Command: /Library/Frameworks/R.framework/Resources/bin/R CMD INSTALL compSPOT StartedAt: 2025-02-09 15:42:51 -0500 (Sun, 09 Feb 2025) EndedAt: 2025-02-09 15:42:59 -0500 (Sun, 09 Feb 2025) EllapsedTime: 8.1 seconds RetCode: 0 Status: OK