Package: compSPOT Version: 1.5.0 Command: /home/biocbuild/bbs-3.21-bioc/R/bin/R CMD INSTALL compSPOT StartedAt: 2025-02-09 15:09:57 -0500 (Sun, 09 Feb 2025) EndedAt: 2025-02-09 15:10:08 -0500 (Sun, 09 Feb 2025) EllapsedTime: 10.9 seconds RetCode: 0 Status: OK