Package: compSPOT Version: 1.5.0 Command: rm -rf compSPOT.buildbin-libdir && mkdir compSPOT.buildbin-libdir && E:\biocbuild\bbs-3.21-bioc\R\bin\R.exe CMD INSTALL --build --library=compSPOT.buildbin-libdir compSPOT_1.5.0.tar.gz StartedAt: 2025-02-10 07:30:47 -0500 (Mon, 10 Feb 2025) EndedAt: 2025-02-10 07:31:02 -0500 (Mon, 10 Feb 2025) EllapsedTime: 15.1 seconds RetCode: 0 Status: OK PackageFile: compSPOT_1.5.0.zip PackageFileSize: 469.3 KiB