Package: compSPOT Version: 1.5.0 Command: chmod a+r compSPOT -R && E:\biocbuild\bbs-3.21-bioc\R\bin\R.exe CMD build --keep-empty-dirs --no-resave-data compSPOT StartedAt: 2025-02-09 18:01:29 -0500 (Sun, 09 Feb 2025) EndedAt: 2025-02-09 18:02:00 -0500 (Sun, 09 Feb 2025) EllapsedTime: 31.0 seconds RetCode: 0 Status: OK PackageFile: compSPOT_1.5.0.tar.gz PackageFileSize: 436.7 KiB