Package: compSPOT Version: 1.5.0 Command: E:\biocbuild\bbs-3.21-bioc\R\bin\R.exe CMD check --no-multiarch --install=check:compSPOT.install-out.txt --library=E:\biocbuild\bbs-3.21-bioc\R\library --no-vignettes --timings compSPOT_1.5.0.tar.gz StartedAt: 2025-02-09 23:54:02 -0500 (Sun, 09 Feb 2025) EndedAt: 2025-02-09 23:57:40 -0500 (Sun, 09 Feb 2025) EllapsedTime: 217.7 seconds RetCode: 0 Status: OK CheckDir: compSPOT.Rcheck Warnings: 0