Package: compcodeR Version: 1.43.0 Command: /Library/Frameworks/R.framework/Resources/bin/R CMD INSTALL compcodeR StartedAt: 2025-02-09 15:15:25 -0500 (Sun, 09 Feb 2025) EndedAt: 2025-02-09 15:15:29 -0500 (Sun, 09 Feb 2025) EllapsedTime: 4.5 seconds RetCode: 0 Status: OK