Package: compcodeR Version: 1.43.0 Command: /Library/Frameworks/R.framework/Resources/bin/R CMD check --install=check:compcodeR.install-out.txt --library=/Library/Frameworks/R.framework/Resources/library --no-vignettes --timings compcodeR_1.43.0.tar.gz StartedAt: 2025-02-12 19:42:28 -0500 (Wed, 12 Feb 2025) EndedAt: 2025-02-12 19:50:42 -0500 (Wed, 12 Feb 2025) EllapsedTime: 494.6 seconds RetCode: 0 Status: OK CheckDir: compcodeR.Rcheck Warnings: 0