Package: compcodeR Version: 1.43.0 Command: E:\biocbuild\bbs-3.21-bioc\R\bin\R.exe CMD check --no-multiarch --install=check:compcodeR.install-out.txt --library=E:\biocbuild\bbs-3.21-bioc\R\library --no-vignettes --timings compcodeR_1.43.0.tar.gz StartedAt: 2025-02-13 00:02:08 -0500 (Thu, 13 Feb 2025) EndedAt: 2025-02-13 00:09:38 -0500 (Thu, 13 Feb 2025) EllapsedTime: 449.7 seconds RetCode: 0 Status: OK CheckDir: compcodeR.Rcheck Warnings: 0