Package: condiments Version: 1.15.1 Command: /Library/Frameworks/R.framework/Resources/bin/R CMD check --install=check:condiments.install-out.txt --library=/Library/Frameworks/R.framework/Resources/library --no-vignettes --timings condiments_1.15.1.tar.gz StartedAt: 2025-02-12 18:40:12 -0500 (Wed, 12 Feb 2025) EndedAt: 2025-02-12 18:42:37 -0500 (Wed, 12 Feb 2025) EllapsedTime: 144.7 seconds RetCode: 0 Status: OK CheckDir: condiments.Rcheck Warnings: 0