Package: condiments Version: 1.15.1 Command: /Library/Frameworks/R.framework/Resources/bin/R CMD INSTALL condiments StartedAt: 2025-02-09 15:25:51 -0500 (Sun, 09 Feb 2025) EndedAt: 2025-02-09 15:26:06 -0500 (Sun, 09 Feb 2025) EllapsedTime: 14.6 seconds RetCode: 0 Status: OK