Package: condiments Version: 1.15.1 Command: /home/biocbuild/R/R/bin/R CMD INSTALL condiments StartedAt: 2025-01-29 20:31:02 -0000 (Wed, 29 Jan 2025) EndedAt: 2025-01-29 20:31:47 -0000 (Wed, 29 Jan 2025) EllapsedTime: 45.3 seconds RetCode: 0 Status: OK