Package: condiments Version: 1.15.1 Command: rm -rf condiments.buildbin-libdir && mkdir condiments.buildbin-libdir && /Users/biocbuild/BBS/utils/build-universal.sh condiments_1.15.1.tar.gz /Library/Frameworks/R.framework/Resources/bin/R condiments.buildbin-libdir StartedAt: 2025-02-13 00:31:13 -0500 (Thu, 13 Feb 2025) EndedAt: 2025-02-13 00:32:03 -0500 (Thu, 13 Feb 2025) EllapsedTime: 49.4 seconds RetCode: 0 Status: OK PackageFile: condiments_1.15.1.tgz PackageFileSize: 2.333 MiB