Package: condiments Version: 1.15.1 Command: /Library/Frameworks/R.framework/Resources/bin/R CMD build --keep-empty-dirs --no-resave-data condiments StartedAt: 2025-02-12 16:19:45 -0500 (Wed, 12 Feb 2025) EndedAt: 2025-02-12 16:23:33 -0500 (Wed, 12 Feb 2025) EllapsedTime: 228.5 seconds RetCode: 0 Status: OK PackageFile: condiments_1.15.1.tar.gz PackageFileSize: 2.244 MiB