Package: condiments Version: 1.15.1 Command: /Library/Frameworks/R.framework/Resources/bin/R CMD check --install=check:condiments.install-out.txt --library=/Library/Frameworks/R.framework/Resources/library --no-vignettes --timings condiments_1.15.1.tar.gz StartedAt: 2025-02-09 19:54:58 -0500 (Sun, 09 Feb 2025) EndedAt: 2025-02-09 20:02:10 -0500 (Sun, 09 Feb 2025) EllapsedTime: 431.5 seconds RetCode: 0 Status: OK CheckDir: condiments.Rcheck Warnings: 0