Package: condiments Version: 1.15.1 Command: /Library/Frameworks/R.framework/Resources/bin/R CMD INSTALL condiments StartedAt: 2025-02-12 15:40:51 -0500 (Wed, 12 Feb 2025) EndedAt: 2025-02-12 15:41:38 -0500 (Wed, 12 Feb 2025) EllapsedTime: 46.4 seconds RetCode: 0 Status: OK