Package: condiments Version: 1.15.1 Command: /home/biocbuild/bbs-3.21-bioc/R/bin/R CMD check --install=check:condiments.install-out.txt --library=/home/biocbuild/bbs-3.21-bioc/R/site-library --timings condiments_1.15.1.tar.gz StartedAt: 2025-02-09 21:10:21 -0500 (Sun, 09 Feb 2025) EndedAt: 2025-02-09 21:20:03 -0500 (Sun, 09 Feb 2025) EllapsedTime: 582.9 seconds RetCode: 0 Status: OK CheckDir: condiments.Rcheck Warnings: 0