Package: condiments Version: 1.15.1 Command: /home/biocbuild/bbs-3.21-bioc/R/bin/R CMD INSTALL condiments StartedAt: 2025-02-09 15:55:41 -0500 (Sun, 09 Feb 2025) EndedAt: 2025-02-09 15:56:17 -0500 (Sun, 09 Feb 2025) EllapsedTime: 35.6 seconds RetCode: 0 Status: OK