Package: condiments Version: 1.15.1 Command: rm -rf condiments.buildbin-libdir && mkdir condiments.buildbin-libdir && E:\biocbuild\bbs-3.21-bioc\R\bin\R.exe CMD INSTALL --build --library=condiments.buildbin-libdir condiments_1.15.1.tar.gz StartedAt: 2025-02-10 07:30:52 -0500 (Mon, 10 Feb 2025) EndedAt: 2025-02-10 07:31:55 -0500 (Mon, 10 Feb 2025) EllapsedTime: 63.3 seconds RetCode: 0 Status: OK PackageFile: condiments_1.15.1.zip PackageFileSize: 1.234 MiB