Package: consICA Version: 2.5.0 Command: rm -rf consICA.buildbin-libdir && mkdir consICA.buildbin-libdir && /Users/biocbuild/BBS/utils/build-universal.sh consICA_2.5.0.tar.gz /Library/Frameworks/R.framework/Resources/bin/R consICA.buildbin-libdir StartedAt: 2025-02-09 22:10:23 -0500 (Sun, 09 Feb 2025) EndedAt: 2025-02-09 22:10:37 -0500 (Sun, 09 Feb 2025) EllapsedTime: 14.3 seconds RetCode: 0 Status: OK PackageFile: consICA_2.5.0.tgz PackageFileSize: 3.142 MiB