Package: consICA Version: 2.5.0 Command: /Library/Frameworks/R.framework/Resources/bin/R CMD INSTALL consICA StartedAt: 2025-02-09 15:21:55 -0500 (Sun, 09 Feb 2025) EndedAt: 2025-02-09 15:22:08 -0500 (Sun, 09 Feb 2025) EllapsedTime: 13.3 seconds RetCode: 0 Status: OK