Package: consICA Version: 2.5.0 Command: rm -rf consICA.buildbin-libdir && mkdir consICA.buildbin-libdir && /Users/biocbuild/BBS/utils/build-universal.sh consICA_2.5.0.tar.gz /Library/Frameworks/R.framework/Resources/bin/R consICA.buildbin-libdir StartedAt: 2025-02-10 00:48:03 -0500 (Mon, 10 Feb 2025) EndedAt: 2025-02-10 00:48:51 -0500 (Mon, 10 Feb 2025) EllapsedTime: 48.2 seconds RetCode: 0 Status: OK PackageFile: consICA_2.5.0.tgz PackageFileSize: 3.141 MiB