Package: consICA Version: 2.5.0 Command: /Library/Frameworks/R.framework/Resources/bin/R CMD INSTALL consICA StartedAt: 2025-02-09 15:35:12 -0500 (Sun, 09 Feb 2025) EndedAt: 2025-02-09 15:35:57 -0500 (Sun, 09 Feb 2025) EllapsedTime: 45.0 seconds RetCode: 0 Status: OK