Package: consICA Version: 2.5.0 Command: rm -rf consICA.buildbin-libdir && mkdir consICA.buildbin-libdir && E:\biocbuild\bbs-3.21-bioc\R\bin\R.exe CMD INSTALL --build --library=consICA.buildbin-libdir consICA_2.5.0.tar.gz StartedAt: 2025-02-10 07:31:23 -0500 (Mon, 10 Feb 2025) EndedAt: 2025-02-10 07:32:03 -0500 (Mon, 10 Feb 2025) EllapsedTime: 40.1 seconds RetCode: 0 Status: OK PackageFile: consICA_2.5.0.zip PackageFileSize: 2.857 MiB