Package: consICA Version: 2.5.0 Command: chmod a+r consICA -R && E:\biocbuild\bbs-3.21-bioc\R\bin\R.exe CMD build --keep-empty-dirs --no-resave-data consICA StartedAt: 2025-02-09 18:02:44 -0500 (Sun, 09 Feb 2025) EndedAt: 2025-02-09 18:04:32 -0500 (Sun, 09 Feb 2025) EllapsedTime: 107.1 seconds RetCode: 0 Status: OK PackageFile: consICA_2.5.0.tar.gz PackageFileSize: 3.206 MiB