Package: consICA Version: 2.5.0 Command: E:\biocbuild\bbs-3.21-bioc\R\bin\R.exe CMD check --no-multiarch --install=check:consICA.install-out.txt --library=E:\biocbuild\bbs-3.21-bioc\R\library --no-vignettes --timings consICA_2.5.0.tar.gz StartedAt: 2025-02-09 23:55:27 -0500 (Sun, 09 Feb 2025) EndedAt: 2025-02-10 00:07:44 -0500 (Mon, 10 Feb 2025) EllapsedTime: 737.0 seconds RetCode: 0 Status: OK CheckDir: consICA.Rcheck Warnings: 0