Package: consensus Version: 1.25.0 Command: /Library/Frameworks/R.framework/Resources/bin/R CMD INSTALL consensus StartedAt: 2025-02-12 15:06:39 -0500 (Wed, 12 Feb 2025) EndedAt: 2025-02-12 15:06:59 -0500 (Wed, 12 Feb 2025) EllapsedTime: 20.5 seconds RetCode: 0 Status: OK