Package: consensus Version: 1.25.0 Command: /home/biocbuild/bbs-3.21-bioc/R/bin/R CMD INSTALL consensus StartedAt: 2025-02-09 15:10:34 -0500 (Sun, 09 Feb 2025) EndedAt: 2025-02-09 15:10:37 -0500 (Sun, 09 Feb 2025) EllapsedTime: 3.0 seconds RetCode: 0 Status: OK