Package: consensus Version: 1.25.0 Command: chmod a+r consensus -R && E:\biocbuild\bbs-3.21-bioc\R\bin\R.exe CMD build --keep-empty-dirs --no-resave-data consensus StartedAt: 2025-02-12 18:04:33 -0500 (Wed, 12 Feb 2025) EndedAt: 2025-02-12 18:04:55 -0500 (Wed, 12 Feb 2025) EllapsedTime: 22.0 seconds RetCode: 0 Status: OK PackageFile: consensus_1.25.0.tar.gz PackageFileSize: 972 KiB