Package: consensusDE Version: 1.25.0 Command: rm -rf consensusDE.buildbin-libdir && mkdir consensusDE.buildbin-libdir && /Users/biocbuild/BBS/utils/build-universal.sh consensusDE_1.25.0.tar.gz /Library/Frameworks/R.framework/Resources/bin/R consensusDE.buildbin-libdir StartedAt: 2025-02-09 22:10:21 -0500 (Sun, 09 Feb 2025) EndedAt: 2025-02-09 22:10:42 -0500 (Sun, 09 Feb 2025) EllapsedTime: 20.4 seconds RetCode: 0 Status: OK PackageFile: consensusDE_1.25.0.tgz PackageFileSize: 1.116 MiB