Package: consensusDE Version: 1.25.0 Command: /home/biocbuild/R/R/bin/R CMD build --keep-empty-dirs --no-resave-data consensusDE StartedAt: 2025-01-28 22:05:23 -0000 (Tue, 28 Jan 2025) EndedAt: 2025-01-28 22:07:38 -0000 (Tue, 28 Jan 2025) EllapsedTime: 135.0 seconds RetCode: 0 Status: OK PackageFile: consensusDE_1.25.0.tar.gz PackageFileSize: 593.2 KiB