Package: consensusDE Version: 1.25.0 Command: /home/biocbuild/R/R/bin/R CMD check --install=check:consensusDE.install-out.txt --library=/home/biocbuild/R/R/site-library --no-vignettes --timings consensusDE_1.25.0.tar.gz StartedAt: 2025-01-28 09:26:27 -0000 (Tue, 28 Jan 2025) EndedAt: 2025-01-28 09:33:18 -0000 (Tue, 28 Jan 2025) EllapsedTime: 410.3 seconds RetCode: 0 Status: WARNINGS CheckDir: consensusDE.Rcheck Warnings: 5