Package: consensusDE Version: 1.25.0 Command: /Library/Frameworks/R.framework/Resources/bin/R CMD check --install=check:consensusDE.install-out.txt --library=/Library/Frameworks/R.framework/Resources/library --no-vignettes --timings consensusDE_1.25.0.tar.gz StartedAt: 2025-02-09 19:55:46 -0500 (Sun, 09 Feb 2025) EndedAt: 2025-02-09 20:01:37 -0500 (Sun, 09 Feb 2025) EllapsedTime: 351.1 seconds RetCode: 0 Status: OK CheckDir: consensusDE.Rcheck Warnings: 0