Package: consensusDE Version: 1.25.0 Command: /home/biocbuild/bbs-3.21-bioc/R/bin/R CMD INSTALL consensusDE StartedAt: 2025-02-12 15:52:44 -0500 (Wed, 12 Feb 2025) EndedAt: 2025-02-12 15:53:31 -0500 (Wed, 12 Feb 2025) EllapsedTime: 47.3 seconds RetCode: 0 Status: OK