Package: consensusDE Version: 1.25.0 Command: rm -rf consensusDE.buildbin-libdir && mkdir consensusDE.buildbin-libdir && E:\biocbuild\bbs-3.21-bioc\R\bin\R.exe CMD INSTALL --build --library=consensusDE.buildbin-libdir consensusDE_1.25.0.tar.gz StartedAt: 2025-02-10 07:31:07 -0500 (Mon, 10 Feb 2025) EndedAt: 2025-02-10 07:32:02 -0500 (Mon, 10 Feb 2025) EllapsedTime: 55.3 seconds RetCode: 0 Status: OK PackageFile: consensusDE_1.25.0.zip PackageFileSize: 551.6 KiB