Package: consensusDE Version: 1.25.0 Command: E:\biocbuild\bbs-3.21-bioc\R\bin\R.exe CMD check --no-multiarch --install=check:consensusDE.install-out.txt --library=E:\biocbuild\bbs-3.21-bioc\R\library --no-vignettes --timings consensusDE_1.25.0.tar.gz StartedAt: 2025-02-09 23:55:16 -0500 (Sun, 09 Feb 2025) EndedAt: 2025-02-10 00:01:27 -0500 (Mon, 10 Feb 2025) EllapsedTime: 370.8 seconds RetCode: 0 Status: OK CheckDir: consensusDE.Rcheck Warnings: 0