Package: consensusOV Version: 1.29.0 Command: /Library/Frameworks/R.framework/Resources/bin/R CMD build --keep-empty-dirs --no-resave-data consensusOV StartedAt: 2025-02-12 15:58:55 -0500 (Wed, 12 Feb 2025) EndedAt: 2025-02-12 15:59:58 -0500 (Wed, 12 Feb 2025) EllapsedTime: 62.7 seconds RetCode: 0 Status: OK PackageFile: consensusOV_1.29.0.tar.gz PackageFileSize: 3.21 MiB